BEGIN:VCALENDAR
VERSION:2.0
PRODID:-//Welcome to the New REALM® - ECPv6.14.2//NONSGML v1.0//EN
CALSCALE:GREGORIAN
METHOD:PUBLISH
X-WR-CALNAME:Welcome to the New REALM®
X-ORIGINAL-URL:https://thenewrealm.ca
X-WR-CALDESC:Events for Welcome to the New REALM®
REFRESH-INTERVAL;VALUE=DURATION:PT1H
X-Robots-Tag:noindex
X-PUBLISHED-TTL:PT1H
BEGIN:VTIMEZONE
TZID:America/Toronto
BEGIN:DAYLIGHT
TZOFFSETFROM:-0500
TZOFFSETTO:-0400
TZNAME:EDT
DTSTART:20260308T070000
END:DAYLIGHT
BEGIN:STANDARD
TZOFFSETFROM:-0400
TZOFFSETTO:-0500
TZNAME:EST
DTSTART:20261101T060000
END:STANDARD
END:VTIMEZONE
BEGIN:VEVENT
DTSTART;TZID=America/Toronto:20260429T130000
DTEND;TZID=America/Toronto:20260429T140000
DTSTAMP:20260421T014443
CREATED:20260211T171705Z
LAST-MODIFIED:20260401T162358Z
UID:10000148-1777467600-1777471200@thenewrealm.ca
SUMMARY:Understanding Land Information with Teranet Tools
DESCRIPTION:
URL:https://thenewrealm.ca/event/understanding-land-information-with-teranet-tools-3/
CATEGORIES:Teranet Tools Series
END:VEVENT
BEGIN:VEVENT
DTSTART;TZID=America/Toronto:20260507T130000
DTEND;TZID=America/Toronto:20260507T143000
DTSTAMP:20260421T014443
CREATED:20260211T171737Z
LAST-MODIFIED:20260401T162430Z
UID:10000149-1778158800-1778164200@thenewrealm.ca
SUMMARY:Search Fundamentals
DESCRIPTION:
URL:https://thenewrealm.ca/event/search-fundamentals-3/
CATEGORIES:Search Series
END:VEVENT
BEGIN:VEVENT
DTSTART;TZID=America/Toronto:20260511T130000
DTEND;TZID=America/Toronto:20260511T140000
DTSTAMP:20260421T014443
CREATED:20260309T184444Z
LAST-MODIFIED:20260401T162149Z
UID:10000158-1778504400-1778508000@thenewrealm.ca
SUMMARY:Mobile Search
DESCRIPTION:
URL:https://thenewrealm.ca/event/mobile-search-3/
CATEGORIES:Search Series
END:VEVENT
BEGIN:VEVENT
DTSTART;TZID=America/Toronto:20260512T130000
DTEND;TZID=America/Toronto:20260512T140000
DTSTAMP:20260421T014443
CREATED:20260309T184551Z
LAST-MODIFIED:20260401T162133Z
UID:10000153-1778590800-1778594400@thenewrealm.ca
SUMMARY:Map Search
DESCRIPTION:
URL:https://thenewrealm.ca/event/map-search-3/
CATEGORIES:Search Series
END:VEVENT
BEGIN:VEVENT
DTSTART;TZID=America/Toronto:20260520T100000
DTEND;TZID=America/Toronto:20260520T110000
DTSTAMP:20260421T014443
CREATED:20260331T143003Z
LAST-MODIFIED:20260401T162115Z
UID:10000163-1779271200-1779274800@thenewrealm.ca
SUMMARY:Protect Your Commission with Teranet Tools
DESCRIPTION:
URL:https://thenewrealm.ca/event/protect-your-commission-with-teranet-tools-14/
CATEGORIES:Teranet Tools Series
END:VEVENT
BEGIN:VEVENT
DTSTART;TZID=America/Toronto:20260520T130000
DTEND;TZID=America/Toronto:20260520T140000
DTSTAMP:20260421T014443
CREATED:20260309T184516Z
LAST-MODIFIED:20260401T162055Z
UID:10000156-1779282000-1779285600@thenewrealm.ca
SUMMARY:Comparative Market Analysis (CMA) for Listing Presentations
DESCRIPTION:
URL:https://thenewrealm.ca/event/cma-for-listing-presentations-2/
CATEGORIES:CMA Series
END:VEVENT
BEGIN:VEVENT
DTSTART;TZID=America/Toronto:20260526T130000
DTEND;TZID=America/Toronto:20260526T140000
DTSTAMP:20260421T014443
CREATED:20260331T130122Z
LAST-MODIFIED:20260401T163550Z
UID:10000162-1779800400-1779804000@thenewrealm.ca
SUMMARY:Understanding Land Information with Teranet Tools
DESCRIPTION:
URL:https://thenewrealm.ca/event/understanding-land-information-with-teranet-tools-5/
CATEGORIES:Teranet Tools Series
END:VEVENT
BEGIN:VEVENT
DTSTART;TZID=America/Toronto:20260527T130000
DTEND;TZID=America/Toronto:20260527T140000
DTSTAMP:20260421T014443
CREATED:20260309T184531Z
LAST-MODIFIED:20260401T162032Z
UID:10000155-1779886800-1779890400@thenewrealm.ca
SUMMARY:Essential Listing Features
DESCRIPTION:
URL:https://thenewrealm.ca/event/essential-listing-features-3/
CATEGORIES:Workflow Series
END:VEVENT
BEGIN:VEVENT
DTSTART;TZID=America/Toronto:20260528T100000
DTEND;TZID=America/Toronto:20260528T230000
DTSTAMP:20260421T014443
CREATED:20260309T184428Z
LAST-MODIFIED:20260401T162022Z
UID:10000159-1779962400-1780009200@thenewrealm.ca
SUMMARY:Helping Buyers
DESCRIPTION:
URL:https://thenewrealm.ca/event/helping-buyers-3/
CATEGORIES:Workflow Series
END:VEVENT
BEGIN:VEVENT
DTSTART;TZID=America/Toronto:20260528T130000
DTEND;TZID=America/Toronto:20260528T140000
DTSTAMP:20260421T014443
CREATED:20260309T184405Z
LAST-MODIFIED:20260401T162009Z
UID:10000160-1779973200-1779976800@thenewrealm.ca
SUMMARY:Comparative Market Analysis (CMA) for Offers
DESCRIPTION:
URL:https://thenewrealm.ca/event/cma-for-offers/
CATEGORIES:CMA Series
END:VEVENT
END:VCALENDAR